BEGIN:VCALENDAR
VERSION:2.0
PRODID:-//Squarespace Inc/Squarespace 6//v6//EN
BEGIN:VEVENT
UID:5ed85f0fdf72c14cdc6235af@squarespace.com
DTSTAMP:20200604T024246Z
DTSTART:20191101T060000Z
DTEND:20191101T073000Z
SUMMARY:Eat Your Art Out: an Edible Art Experience
END:VEVENT
END:VCALENDAR
