BEGIN:VCALENDAR
VERSION:2.0
PRODID:-//Squarespace Inc/Squarespace 6//v6//EN
BEGIN:VEVENT
UID:5ed85fbeb79765492a9b9ec6@squarespace.com
DTSTAMP:20200604T030109Z
DTSTART:20191003T053000Z
DTEND:20191003T063000Z
SUMMARY:Panel Discussion: Creativity and Wellbeing
END:VEVENT
END:VCALENDAR
