BEGIN:VCALENDAR
VERSION:2.0
PRODID:-//Squarespace Inc/Squarespace 6//v6//EN
BEGIN:VEVENT
UID:5ed8641a6991040c505cdfeb@squarespace.com
DTSTAMP:20200604T031225Z
DTSTART:20190821T000000Z
DTEND:20190821T020000Z
SUMMARY:Knitting in the Gallery
END:VEVENT
END:VCALENDAR
