BEGIN:VCALENDAR
VERSION:2.0
PRODID:-//Squarespace Inc/Squarespace 6//v6//EN
BEGIN:VEVENT
UID:5ed86df84c619356588ae7f8@squarespace.com
DTSTAMP:20200604T035316Z
DTSTART:20181007T000000Z
DTEND:20181007T010000Z
SUMMARY:Mansfield and the Modern Woman - A social history told through the 
 lens of fashion.
END:VEVENT
END:VCALENDAR
